BEGIN:VCALENDAR
VERSION:2.0
PRODID:-//Eventin//Event Calendar//EN
CALSCALE:GREGORIAN
METHOD:PUBLISH
BEGIN:VEVENT
UID:303ce21fde6472d5db069bf0e1026546@hamburgarts.org
SUMMARY:Blacksmithing Classes
DESCRIPTION:🔥 Hands-On Blacksmithing Classes 🔨Ready to try something 
 bold\, creative\, and unforgettable?\nJoin us at Fisher Forge for a hands-o
 n blacksmithing experience where you’ll learn traditional forging techniq
 ues and create unique take-home projects.\n📍 Fisher Forge\, 572 St. Mich
 aels Rd.\, Hamburg\, PA🕕 6–9 PM🗓 March: 3/2\, 3/9\, 3/16\, 3/23 pur
 chase here:https://square.link/u/4pxN9Kcq🗓 April: 4/6\, 4/13\, 4/20\, 4/
 27 purchase here: https://square.link/u/J1QuQelT🗓 May: 5/5\, 5/12\, 5/19
 \, 5/26 purchase here: https://square.link/u/gf4iUnvC\n⚒ Hosted by Dave F
 isher & Kaylum Reppert💲 $190 per student (series of 4 classes)\nSpots ar
 e limited—don’t miss this chance to work the forge and take home someth
 ing truly one-of-a-kind.
LOCATION:572 St. Michaels Rd. Hamburg\, PA 19526
DTSTAMP:20260420T121250Z
DTSTART:20260119T230000Z
DTEND:20260527T010000Z
END:VEVENT
END:VCALENDAR
