BEGIN:VCALENDAR
VERSION:2.0
PRODID:-//Eventin//Event Calendar//EN
CALSCALE:GREGORIAN
METHOD:PUBLISH
BEGIN:VEVENT
UID:43d1a50de2278e8ed6226dc4d3cddccc@hamburgarts.org
SUMMARY:Daydreams and Nightmares-Jay Ressler Artist Reception
DESCRIPTION:Step into a world of contrast\, imagination\, and emotion with 
 “Daydreams and Nightmares: Photographs and Paintings” featuring May art
 ist Jay Ressler.\nExplore vibrant\, dreamlike imagery alongside darker\, th
 ought-provoking works that blur the line between reality and imagination.\n
 ✨ Meet the Artist📅 Saturday\, May 16\, 2026⏰ 1–3 PM📍 Hamburg Ar
 ts & Crafts Center\, 320 State St\, Hamburg\, PA\nCome connect with the art
 ist\, hear the stories behind the work\, and experience this unique exhibit
  in person.
LOCATION:The Art and Craft Gallery
DTSTAMP:20260423T150309Z
DTSTART:20260516T170000Z
DTEND:20260516T190000Z
END:VEVENT
END:VCALENDAR
