BEGIN:VCALENDAR
VERSION:2.0
PRODID:-//Eventin//Event Calendar//EN
CALSCALE:GREGORIAN
METHOD:PUBLISH
BEGIN:VEVENT
UID:0276080582d8933bf2f6db4720cad70b@hamburgarts.org
SUMMARY:Paint the Old Town-Historic Hamburg Plein Air Day
DESCRIPTION:Join us for Historic Hamburg Plein Air Day and spend the aftern
 oon capturing the charm and character of our beautiful town.\n🖌 All skil
 l levels welcome📅 Sunday\, September 27\, 2026⏰ 12:30 – 3:30 PM📍 
 Meet at State Street Square\, 222 State St.\, Hamburg\, PA\nBring your favo
 rite painting or drawing supplies and create alongside fellow artists—thi
 s event is FREE!\nHosted by Hamburg Area Art Alliance & Berks Art Alliance\
 nLet’s fill the streets with creativity! ✨
LOCATION:State Street Square-222 State St. Hamburg\, PA
DTSTAMP:20260423T165819Z
DTSTART:20260927T163000Z
DTEND:20260927T193000Z
END:VEVENT
END:VCALENDAR
